BEGIN:VCALENDAR
VERSION:1.0
PRODID:Open2CKalenderExportV11
BEGIN:VEVENT
DTSTAMP:20231213T161711Z
DTSTART:20240704T220000Z
DTEND:20240704T220000Z
CATEGORIES:Ver- und Entsorgung
SUMMARY;CHARSET=UTF-8:Biotonne
DESCRIPTION;CHARSET=UTF-8:
LOCATION;CHARSET=UTF-8:
UID:d735d21755505f5d05e48d38453e23ff-281556c5006b5ebf2f0e22bbef26de8b
PRIORITY:3
END:VEVENT
BEGIN:VEVENT
DTSTAMP:20231214T090222Z
DTSTART:20240711T220000Z
DTEND:20240711T220000Z
CATEGORIES:Ver- und Entsorgung
SUMMARY;CHARSET=UTF-8:Restmülltonne
DESCRIPTION;CHARSET=UTF-8:
LOCATION;CHARSET=UTF-8:
UID:d6a26e52d326be8d06146831d28eb15a-cb9992992446e3626d21396cdf1ad388
PRIORITY:3
END:VEVENT
BEGIN:VEVENT
DTSTAMP:20231213T155317Z
DTSTART:20240715T220000Z
DTEND:20240715T220000Z
CATEGORIES:Ver- und Entsorgung
SUMMARY;CHARSET=UTF-8:Gelbe Tonne
DESCRIPTION;CHARSET=UTF-8:
LOCATION;CHARSET=UTF-8:
UID:c24de93d5ef452897d03fff542ace866-de72cf8476a44c75efa3bf48e732957b
PRIORITY:3
END:VEVENT
BEGIN:VEVENT
DTSTAMP:20231213T161742Z
DTSTART:20240718T220000Z
DTEND:20240718T220000Z
CATEGORIES:Ver- und Entsorgung
SUMMARY;CHARSET=UTF-8:Biotonne
DESCRIPTION;CHARSET=UTF-8:
LOCATION;CHARSET=UTF-8:
UID:48d631f7004bd990d552f277a1591d52-281556c5006b5ebf2f0e22bbef26de8b
PRIORITY:3
END:VEVENT
BEGIN:VEVENT
DTSTAMP:20231214T082900Z
DTSTART:20240722T220000Z
DTEND:20240722T220000Z
CATEGORIES:Ver- und Entsorgung
SUMMARY;CHARSET=UTF-8:Papiertonne
DESCRIPTION;CHARSET=UTF-8:
LOCATION;CHARSET=UTF-8:
UID:725b2f7039c78fa0c5c12089441647c4-a287004c46aafe22dd4e88234e2637eb
PRIORITY:3
END:VEVENT
BEGIN:VEVENT
DTSTAMP:20231214T090306Z
DTSTART:20240725T220000Z
DTEND:20240725T220000Z
CATEGORIES:Ver- und Entsorgung
SUMMARY;CHARSET=UTF-8:Restmülltonne
DESCRIPTION;CHARSET=UTF-8:
LOCATION;CHARSET=UTF-8:
UID:c9210dbec4a304c9fbc14232ff88ca4b-cb9992992446e3626d21396cdf1ad388
PRIORITY:3
END:VEVENT
END:VCALENDAR