BEGIN:VCALENDAR
VERSION:1.0
PRODID:Open2CKalenderExportV11
BEGIN:VEVENT
DTSTAMP:20251110T080657Z
DTSTART:20260326T230000Z
DTEND:20260326T230000Z
CATEGORIES:Ver- und Entsorgung
SUMMARY;CHARSET=UTF-8:Biotonne
DESCRIPTION;CHARSET=UTF-8:
LOCATION;CHARSET=UTF-8:
UID:0db3c8d054852a1798fc371852ab8025-281556c5006b5ebf2f0e22bbef26de8b
PRIORITY:3
END:VEVENT
END:VCALENDAR