BEGIN:VCALENDAR
VERSION:1.0
PRODID:Open2CKalenderExportV11
BEGIN:VEVENT
DTSTAMP:20251110T080831Z
DTSTART:20260410T220000Z
DTEND:20260410T220000Z
CATEGORIES:Ver- und Entsorgung
SUMMARY;CHARSET=UTF-8:Biotonne
DESCRIPTION;CHARSET=UTF-8:
LOCATION;CHARSET=UTF-8:
UID:5f4bdd2722d95b410ce9e41195fbef32-281556c5006b5ebf2f0e22bbef26de8b
PRIORITY:3
END:VEVENT
END:VCALENDAR