BEGIN:VCALENDAR
VERSION:1.0
PRODID:Open2CKalenderExportV11
BEGIN:VEVENT
DTSTAMP:20251110T082002Z
DTSTART:20260730T220000Z
DTEND:20260730T220000Z
CATEGORIES:Ver- und Entsorgung
SUMMARY;CHARSET=UTF-8:Biotonne
DESCRIPTION;CHARSET=UTF-8:
LOCATION;CHARSET=UTF-8:
UID:19a4b6e39db3e6e61bd6ff1c1c880bea-281556c5006b5ebf2f0e22bbef26de8b
PRIORITY:3
END:VEVENT
END:VCALENDAR