BEGIN:VCALENDAR
VERSION:1.0
PRODID:Open2CKalenderExportV11
BEGIN:VEVENT
DTSTAMP:20251110T083437Z
DTSTART:20261022T220000Z
DTEND:20261022T220000Z
CATEGORIES:Ver- und Entsorgung
SUMMARY;CHARSET=UTF-8:Biotonne
DESCRIPTION;CHARSET=UTF-8:
LOCATION;CHARSET=UTF-8:
UID:c9869b5102f658740ec07c3d4f39db39-281556c5006b5ebf2f0e22bbef26de8b
PRIORITY:3
END:VEVENT
END:VCALENDAR