BEGIN:VCALENDAR
VERSION:1.0
PRODID:Open2CKalenderExportV11
BEGIN:VEVENT
DTSTAMP:20251110T083654Z
DTSTART:20261217T230000Z
DTEND:20261217T230000Z
CATEGORIES:Ver- und Entsorgung
SUMMARY;CHARSET=UTF-8:Biotonne
DESCRIPTION;CHARSET=UTF-8:
LOCATION;CHARSET=UTF-8:
UID:beb963c99250798bf0c57528ab38acbd-281556c5006b5ebf2f0e22bbef26de8b
PRIORITY:3
END:VEVENT
END:VCALENDAR