BEGIN:VCALENDAR
VERSION:1.0
PRODID:Open2CKalenderExportV11
BEGIN:VEVENT
DTSTAMP:20251110T084028Z
DTSTART:20260302T230000Z
DTEND:20260302T230000Z
CATEGORIES:Ver- und Entsorgung
SUMMARY;CHARSET=UTF-8:Papiertonne
DESCRIPTION;CHARSET=UTF-8:
LOCATION;CHARSET=UTF-8:
UID:e6eaefdbc18e958858407c905f8d06a0-a287004c46aafe22dd4e88234e2637eb
PRIORITY:3
END:VEVENT
END:VCALENDAR