BEGIN:VCALENDAR
VERSION:1.0
PRODID:Open2CKalenderExportV11
BEGIN:VEVENT
DTSTAMP:20251110T084240Z
DTSTART:20260526T220000Z
DTEND:20260526T220000Z
CATEGORIES:Ver- und Entsorgung
SUMMARY;CHARSET=UTF-8:Papiertonne
DESCRIPTION;CHARSET=UTF-8:
LOCATION;CHARSET=UTF-8:
UID:6b0bfccc3ddf3cf044eb92d9e25945c1-a287004c46aafe22dd4e88234e2637eb
PRIORITY:3
END:VEVENT
END:VCALENDAR