BEGIN:VCALENDAR
VERSION:1.0
PRODID:Open2CKalenderExportV11
BEGIN:VEVENT
DTSTAMP:20251110T085127Z
DTSTART:20261207T230000Z
DTEND:20261207T230000Z
CATEGORIES:Ver- und Entsorgung
SUMMARY;CHARSET=UTF-8:Papiertonne
DESCRIPTION;CHARSET=UTF-8:
LOCATION;CHARSET=UTF-8:
UID:5ad4b8a09935e0d724969b529afa5b99-a287004c46aafe22dd4e88234e2637eb
PRIORITY:3
END:VEVENT
END:VCALENDAR