BEGIN:VCALENDAR
VERSION:1.0
PRODID:Open2CKalenderExportV11
BEGIN:VEVENT
DTSTAMP:20251110T091948Z
DTSTART:20260709T220000Z
DTEND:20260709T220000Z
CATEGORIES:Ver- und Entsorgung
SUMMARY;CHARSET=UTF-8:Restmülltonne
DESCRIPTION;CHARSET=UTF-8:
LOCATION;CHARSET=UTF-8:
UID:19f8e974538a263af2bd85907cf9238f-cb9992992446e3626d21396cdf1ad388
PRIORITY:3
END:VEVENT
END:VCALENDAR