BEGIN:VCALENDAR
VERSION:1.0
PRODID:Open2CKalenderExportV11
BEGIN:VEVENT
DTSTAMP:20251110T092143Z
DTSTART:20260903T220000Z
DTEND:20260903T220000Z
CATEGORIES:Ver- und Entsorgung
SUMMARY;CHARSET=UTF-8:Restmülltonne
DESCRIPTION;CHARSET=UTF-8:
LOCATION;CHARSET=UTF-8:
UID:173923c96eb56ed6a8ee78de20e58a9e-cb9992992446e3626d21396cdf1ad388
PRIORITY:3
END:VEVENT
END:VCALENDAR