BEGIN:VCALENDAR
VERSION:1.0
PRODID:Open2CKalenderExportV11
BEGIN:VEVENT
DTSTAMP:20251110T092210Z
DTSTART:20260917T220000Z
DTEND:20260917T220000Z
CATEGORIES:Ver- und Entsorgung
SUMMARY;CHARSET=UTF-8:Restmülltonne
DESCRIPTION;CHARSET=UTF-8:
LOCATION;CHARSET=UTF-8:
UID:af8ba9facf282e6de4d771dd03e342fe-cb9992992446e3626d21396cdf1ad388
PRIORITY:3
END:VEVENT
END:VCALENDAR