BEGIN:VCALENDAR
VERSION:1.0
PRODID:Open2CKalenderExportV11
BEGIN:VEVENT
DTSTAMP:20251110T092303Z
DTSTART:20261015T220000Z
DTEND:20261015T220000Z
CATEGORIES:Ver- und Entsorgung
SUMMARY;CHARSET=UTF-8:Restmülltonne
DESCRIPTION;CHARSET=UTF-8:
LOCATION;CHARSET=UTF-8:
UID:4b81c152967a00b0679fea51ad4003d6-cb9992992446e3626d21396cdf1ad388
PRIORITY:3
END:VEVENT
END:VCALENDAR