BEGIN:VCALENDAR
VERSION:1.0
PRODID:Open2CKalenderExportV11
BEGIN:VEVENT
DTSTAMP:20251110T092346Z
DTSTART:20261112T230000Z
DTEND:20261112T230000Z
CATEGORIES:Ver- und Entsorgung
SUMMARY;CHARSET=UTF-8:Restmülltonne
DESCRIPTION;CHARSET=UTF-8:
LOCATION;CHARSET=UTF-8:
UID:a247e1e34bf8e9bf47e054e29db9839a-cb9992992446e3626d21396cdf1ad388
PRIORITY:3
END:VEVENT
END:VCALENDAR