BEGIN:VCALENDAR
VERSION:1.0
PRODID:Open2CKalenderExportV11
BEGIN:VEVENT
DTSTAMP:20251110T092803Z
DTSTART:20260323T230000Z
DTEND:20260323T230000Z
CATEGORIES:Ver- und Entsorgung
SUMMARY;CHARSET=UTF-8:Gelbe Tonne
DESCRIPTION;CHARSET=UTF-8:
LOCATION;CHARSET=UTF-8:
UID:c0586d4e9fb5937a6b00828c7707aba2-de72cf8476a44c75efa3bf48e732957b
PRIORITY:3
END:VEVENT
END:VCALENDAR