BEGIN:VCALENDAR
VERSION:1.0
PRODID:Open2CKalenderExportV11
BEGIN:VEVENT
DTSTAMP:20251110T092952Z
DTSTART:20260713T220000Z
DTEND:20260713T220000Z
CATEGORIES:Ver- und Entsorgung
SUMMARY;CHARSET=UTF-8:Gelbe Tonne
DESCRIPTION;CHARSET=UTF-8:
LOCATION;CHARSET=UTF-8:
UID:7e82656402a61391345762a8958f6d29-de72cf8476a44c75efa3bf48e732957b
PRIORITY:3
END:VEVENT
END:VCALENDAR