BEGIN:VCALENDAR
VERSION:1.0
PRODID:Open2CKalenderExportV11
BEGIN:VEVENT
DTSTAMP:20251110T093014Z
DTSTART:20260810T220000Z
DTEND:20260810T220000Z
CATEGORIES:Ver- und Entsorgung
SUMMARY;CHARSET=UTF-8:Gelbe Tonne
DESCRIPTION;CHARSET=UTF-8:
LOCATION;CHARSET=UTF-8:
UID:95cb1fd7b3e080d3793bf354aaf9e1f1-de72cf8476a44c75efa3bf48e732957b
PRIORITY:3
END:VEVENT
END:VCALENDAR