BEGIN:VCALENDAR
VERSION:1.0
PRODID:Open2CKalenderExportV11
BEGIN:VEVENT
DTSTAMP:20251110T093058Z
DTSTART:20261005T220000Z
DTEND:20261005T220000Z
CATEGORIES:Ver- und Entsorgung
SUMMARY;CHARSET=UTF-8:Gelbe Tonne
DESCRIPTION;CHARSET=UTF-8:
LOCATION;CHARSET=UTF-8:
UID:aa615f27e6640f9aa4479440f1a7e975-de72cf8476a44c75efa3bf48e732957b
PRIORITY:3
END:VEVENT
END:VCALENDAR