BEGIN:VCALENDAR
VERSION:1.0
PRODID:Open2CKalenderExportV11
BEGIN:VEVENT
DTSTAMP:20251110T093412Z
DTSTART:20261022T220000Z
DTEND:20261022T220000Z
CATEGORIES:Ver- und Entsorgung
SUMMARY;CHARSET=UTF-8:Sondermüll
DESCRIPTION;CHARSET=UTF-8:Jeweils von 09.45 - 10.45 Uhr am Wertstoffhof/Feuerwehr Uffing
LOCATION;CHARSET=UTF-8:
UID:c9869b5102f658740ec07c3d4f39db39-328bd6321361cd57e13de0c49de7ae16
PRIORITY:3
END:VEVENT
END:VCALENDAR