BEGIN:VCALENDAR
VERSION:1.0
PRODID:Open2CKalenderExportV11
BEGIN:VEVENT
DTSTAMP:20251110T093634Z
DTSTART:20260613T063000Z
DTEND:20260613T110000Z
CATEGORIES:Ver- und Entsorgung
SUMMARY;CHARSET=UTF-8:Papier- und Altkleidersammlung des SV Uffing
DESCRIPTION;CHARSET=UTF-8:Altpapier- und  Altkleidersammlung des SV Uffing, Abteilung Fußball im Ortsgebiet Uffing |   | Kartons und Kleidung separat
LOCATION;CHARSET=UTF-8:
UID:3b901b673b4d954bb8a35e77f8efeb89-19910671b4ddfdd5bedddc8f896befdf
PRIORITY:3
END:VEVENT
END:VCALENDAR