BEGIN:VCALENDAR
VERSION:1.0
PRODID:Open2CKalenderExportV11
BEGIN:VEVENT
DTSTAMP:20251110T093737Z
DTSTART:20261121T073000Z
DTEND:20261121T120000Z
CATEGORIES:Ver- und Entsorgung
SUMMARY;CHARSET=UTF-8:Papier- und Altkleidersammlung des SV Uffing
DESCRIPTION;CHARSET=UTF-8:Altpapier- und  Altkleidersammlung des SV Uffing, Abteilung Fußball im Ortsgebiet Uffing |   | Kartons und Kleidung separat
LOCATION;CHARSET=UTF-8:
UID:8e56ed24cfbd5fbb77055f07d0d44cd4-19910671b4ddfdd5bedddc8f896befdf
PRIORITY:3
END:VEVENT
END:VCALENDAR