BEGIN:VCALENDAR
VERSION:1.0
PRODID:Open2CKalenderExportV11
BEGIN:VEVENT
DTSTAMP:20251110T094440Z
DTSTART:20261106T230000Z
DTEND:20261106T230000Z
CATEGORIES:Ver- und Entsorgung
SUMMARY;CHARSET=UTF-8:Altpapiersammlung Schöffau
DESCRIPTION;CHARSET=UTF-8:Jeweils von 10.00 - 11.00 Uhr am Wertstoffhof/Feuerwehr.
LOCATION;CHARSET=UTF-8:
UID:caa1d0c23f0899a8a810a6c9da8c9342-6f4798dce5f75164d341b20dbeb38383
PRIORITY:3
END:VEVENT
END:VCALENDAR