BEGIN:VCALENDAR
VERSION:2.0
PRODID:< http://www.open2c.de/ >
METHOD:PUBLISH
X-PUBLISHED-TTL:PT12H
BEGIN:VEVENT
CREATED:20231213T151447Z
LAST-MODIFIED:20231213T161506Z
GEO:0.000000,0.000000
DTSTAMP:20260425T102023Z
DTSTART:20240510T220000Z
DTEND:20240510T220000Z
CATEGORIES:Ver- und Entsorgung
SUMMARY;CHARSET=UTF-8:Biotonne
DESCRIPTION;CHARSET=UTF-8:
LOCATION;CHARSET=UTF-8:
UID:d86eb5b4b97a8dc1e3e2c3ad098eb1e9@74ecdbd7b8e5b2992eb859b7c843539f
END:VEVENT
END:VCALENDAR