BEGIN:VCALENDAR
VERSION:2.0
PRODID:< http://www.open2c.de/ >
METHOD:PUBLISH
X-PUBLISHED-TTL:PT12H
BEGIN:VEVENT
CREATED:20241202T090051Z
LAST-MODIFIED:20241202T100116Z
GEO:0.000000,0.000000
DTSTAMP:20260425T012524Z
DTSTART:20250703T220000Z
DTEND:20250703T220000Z
CATEGORIES:Ver- und Entsorgung
SUMMARY;CHARSET=UTF-8:Biotonne
DESCRIPTION;CHARSET=UTF-8:
LOCATION;CHARSET=UTF-8:
UID:971b71c444c143d5c7433b8173b3bc9b@74ecdbd7b8e5b2992eb859b7c843539f
END:VEVENT
BEGIN:VEVENT
CREATED:20241202T104027Z
LAST-MODIFIED:20241202T114052Z
GEO:0.000000,0.000000
DTSTAMP:20260425T012524Z
DTSTART:20250710T220000Z
DTEND:20250710T220000Z
CATEGORIES:Ver- und Entsorgung
SUMMARY;CHARSET=UTF-8:Restmülltonne
DESCRIPTION;CHARSET=UTF-8:
LOCATION;CHARSET=UTF-8:
UID:7c8db8d0b46b29fa1aca2b73b155e5b6@74ecdbd7b8e5b2992eb859b7c843539f
END:VEVENT
BEGIN:VEVENT
CREATED:20241202T105357Z
LAST-MODIFIED:20241202T115416Z
GEO:0.000000,0.000000
DTSTAMP:20260425T012524Z
DTSTART:20250714T220000Z
DTEND:20250714T220000Z
CATEGORIES:Ver- und Entsorgung
SUMMARY;CHARSET=UTF-8:Gelbe Tonne
DESCRIPTION;CHARSET=UTF-8:
LOCATION;CHARSET=UTF-8:
UID:0e3c7df9db5f7cbe6071e8c463333572@74ecdbd7b8e5b2992eb859b7c843539f
END:VEVENT
BEGIN:VEVENT
CREATED:20241202T090134Z
LAST-MODIFIED:20241202T100214Z
GEO:0.000000,0.000000
DTSTAMP:20260425T012524Z
DTSTART:20250717T220000Z
DTEND:20250717T220000Z
CATEGORIES:Ver- und Entsorgung
SUMMARY;CHARSET=UTF-8:Biotonne
DESCRIPTION;CHARSET=UTF-8:
LOCATION;CHARSET=UTF-8:
UID:dae128b7bbbfc3ec29f155a41d584c03@74ecdbd7b8e5b2992eb859b7c843539f
END:VEVENT
BEGIN:VEVENT
CREATED:20241202T100911Z
LAST-MODIFIED:20241202T110929Z
GEO:0.000000,0.000000
DTSTAMP:20260425T012524Z
DTSTART:20250721T220000Z
DTEND:20250721T220000Z
CATEGORIES:Ver- und Entsorgung
SUMMARY;CHARSET=UTF-8:Papiertonne
DESCRIPTION;CHARSET=UTF-8:
LOCATION;CHARSET=UTF-8:
UID:065e544abc7bb55a8e546a790bc0be55@74ecdbd7b8e5b2992eb859b7c843539f
END:VEVENT
BEGIN:VEVENT
CREATED:20241202T104106Z
LAST-MODIFIED:20241202T114121Z
GEO:0.000000,0.000000
DTSTAMP:20260425T012524Z
DTSTART:20250724T220000Z
DTEND:20250724T220000Z
CATEGORIES:Ver- und Entsorgung
SUMMARY;CHARSET=UTF-8:Restmülltonne
DESCRIPTION;CHARSET=UTF-8:
LOCATION;CHARSET=UTF-8:
UID:4b76becfe3287e8e8b432e30b6dec750@74ecdbd7b8e5b2992eb859b7c843539f
END:VEVENT
END:VCALENDAR