BEGIN:VCALENDAR
VERSION:2.0
PRODID:< http://www.open2c.de/ >
METHOD:PUBLISH
X-PUBLISHED-TTL:PT12H
BEGIN:VEVENT
CREATED:20251110T080613Z
LAST-MODIFIED:20251110T080627Z
GEO:0.000000,0.000000
DTSTAMP:20260424T143842Z
DTSTART:20260312T230000Z
DTEND:20260312T230000Z
CATEGORIES:Ver- und Entsorgung
SUMMARY;CHARSET=UTF-8:Biotonne
DESCRIPTION;CHARSET=UTF-8:
LOCATION;CHARSET=UTF-8:
UID:fd85bd2f06c735480f5dd4a1401aba75@74ecdbd7b8e5b2992eb859b7c843539f
END:VEVENT
END:VCALENDAR