BEGIN:VCALENDAR
VERSION:2.0
PRODID:< http://www.open2c.de/ >
METHOD:PUBLISH
X-PUBLISHED-TTL:PT12H
BEGIN:VEVENT
CREATED:20251110T081514Z
LAST-MODIFIED:20251110T081531Z
GEO:0.000000,0.000000
DTSTAMP:20260424T125053Z
DTSTART:20260521T220000Z
DTEND:20260521T220000Z
CATEGORIES:Ver- und Entsorgung
SUMMARY;CHARSET=UTF-8:Biotonne
DESCRIPTION;CHARSET=UTF-8:
LOCATION;CHARSET=UTF-8:
UID:f5b9298e035366385a9abbbb732af0cf@74ecdbd7b8e5b2992eb859b7c843539f
END:VEVENT
END:VCALENDAR