BEGIN:VCALENDAR
VERSION:2.0
PRODID:< http://www.open2c.de/ >
METHOD:PUBLISH
X-PUBLISHED-TTL:PT12H
BEGIN:VEVENT
CREATED:20251110T081833Z
LAST-MODIFIED:20251110T081854Z
GEO:0.000000,0.000000
DTSTAMP:20260424T143901Z
DTSTART:20260716T220000Z
DTEND:20260716T220000Z
CATEGORIES:Ver- und Entsorgung
SUMMARY;CHARSET=UTF-8:Biotonne
DESCRIPTION;CHARSET=UTF-8:
LOCATION;CHARSET=UTF-8:
UID:24d511506e4cce3d86a28f8fd5d8a16b@74ecdbd7b8e5b2992eb859b7c843539f
END:VEVENT
END:VCALENDAR