BEGIN:VCALENDAR
VERSION:2.0
PRODID:< http://www.open2c.de/ >
METHOD:PUBLISH
X-PUBLISHED-TTL:PT12H
BEGIN:VEVENT
CREATED:20251110T082730Z
LAST-MODIFIED:20251110T082748Z
GEO:0.000000,0.000000
DTSTAMP:20260424T144025Z
DTSTART:20260813T220000Z
DTEND:20260813T220000Z
CATEGORIES:Ver- und Entsorgung
SUMMARY;CHARSET=UTF-8:Biotonne
DESCRIPTION;CHARSET=UTF-8:
LOCATION;CHARSET=UTF-8:
UID:240675d8b2ed2fc4848e521eb67281b4@74ecdbd7b8e5b2992eb859b7c843539f
END:VEVENT
END:VCALENDAR