BEGIN:VCALENDAR
VERSION:2.0
PRODID:< http://www.open2c.de/ >
METHOD:PUBLISH
X-PUBLISHED-TTL:PT12H
BEGIN:VEVENT
CREATED:20251110T082807Z
LAST-MODIFIED:20251110T082822Z
GEO:0.000000,0.000000
DTSTAMP:20260424T143841Z
DTSTART:20260827T220000Z
DTEND:20260827T220000Z
CATEGORIES:Ver- und Entsorgung
SUMMARY;CHARSET=UTF-8:Biotonne
DESCRIPTION;CHARSET=UTF-8:
LOCATION;CHARSET=UTF-8:
UID:b48bf3f948461b4e5c2d9b09063d9653@74ecdbd7b8e5b2992eb859b7c843539f
END:VEVENT
END:VCALENDAR