BEGIN:VCALENDAR
VERSION:2.0
PRODID:< http://www.open2c.de/ >
METHOD:PUBLISH
X-PUBLISHED-TTL:PT12H
BEGIN:VEVENT
CREATED:20251110T082930Z
LAST-MODIFIED:20251110T082944Z
GEO:0.000000,0.000000
DTSTAMP:20260424T143903Z
DTSTART:20260910T220000Z
DTEND:20260910T220000Z
CATEGORIES:Ver- und Entsorgung
SUMMARY;CHARSET=UTF-8:Biotonne
DESCRIPTION;CHARSET=UTF-8:
LOCATION;CHARSET=UTF-8:
UID:8f1812ab8b3de5bc57150e64e8e9b68d@74ecdbd7b8e5b2992eb859b7c843539f
END:VEVENT
END:VCALENDAR