BEGIN:VCALENDAR
VERSION:2.0
PRODID:< http://www.open2c.de/ >
METHOD:PUBLISH
X-PUBLISHED-TTL:PT12H
BEGIN:VEVENT
CREATED:20251110T083351Z
LAST-MODIFIED:20251110T083405Z
GEO:0.000000,0.000000
DTSTAMP:20260424T145537Z
DTSTART:20261008T220000Z
DTEND:20261008T220000Z
CATEGORIES:Ver- und Entsorgung
SUMMARY;CHARSET=UTF-8:Biotonne
DESCRIPTION;CHARSET=UTF-8:
LOCATION;CHARSET=UTF-8:
UID:26700c8eb8681538f94b369050bf23a1@74ecdbd7b8e5b2992eb859b7c843539f
END:VEVENT
END:VCALENDAR