BEGIN:VCALENDAR
VERSION:2.0
PRODID:< http://www.open2c.de/ >
METHOD:PUBLISH
X-PUBLISHED-TTL:PT12H
BEGIN:VEVENT
CREATED:20251110T083522Z
LAST-MODIFIED:20251110T083542Z
GEO:0.000000,0.000000
DTSTAMP:20260424T145537Z
DTSTART:20261119T230000Z
DTEND:20261119T230000Z
CATEGORIES:Ver- und Entsorgung
SUMMARY;CHARSET=UTF-8:Biotonne
DESCRIPTION;CHARSET=UTF-8:
LOCATION;CHARSET=UTF-8:
UID:a548a1a4530aeea5a1f0eea68bb16413@74ecdbd7b8e5b2992eb859b7c843539f
END:VEVENT
END:VCALENDAR