BEGIN:VCALENDAR
VERSION:2.0
PRODID:< http://www.open2c.de/ >
METHOD:PUBLISH
X-PUBLISHED-TTL:PT12H
BEGIN:VEVENT
CREATED:20251110T083601Z
LAST-MODIFIED:20251110T083615Z
GEO:0.000000,0.000000
DTSTAMP:20260424T145624Z
DTSTART:20261203T230000Z
DTEND:20261203T230000Z
CATEGORIES:Ver- und Entsorgung
SUMMARY;CHARSET=UTF-8:Biotonne
DESCRIPTION;CHARSET=UTF-8:
LOCATION;CHARSET=UTF-8:
UID:dcad28656d16679d2ca8c22f93d3a6b3@74ecdbd7b8e5b2992eb859b7c843539f
END:VEVENT
END:VCALENDAR