BEGIN:VCALENDAR
VERSION:2.0
PRODID:< http://www.open2c.de/ >
METHOD:PUBLISH
X-PUBLISHED-TTL:PT12H
BEGIN:VEVENT
CREATED:20251110T084905Z
LAST-MODIFIED:20251110T084918Z
GEO:0.000000,0.000000
DTSTAMP:20260424T144009Z
DTSTART:20260817T220000Z
DTEND:20260817T220000Z
CATEGORIES:Ver- und Entsorgung
SUMMARY;CHARSET=UTF-8:Papiertonne
DESCRIPTION;CHARSET=UTF-8:
LOCATION;CHARSET=UTF-8:
UID:862422b4173113e72306a84493a3f844@74ecdbd7b8e5b2992eb859b7c843539f
END:VEVENT
END:VCALENDAR