BEGIN:VCALENDAR
VERSION:2.0
PRODID:< http://www.open2c.de/ >
METHOD:PUBLISH
X-PUBLISHED-TTL:PT12H
BEGIN:VEVENT
CREATED:20251110T084934Z
LAST-MODIFIED:20251110T084950Z
GEO:0.000000,0.000000
DTSTAMP:20260424T143822Z
DTSTART:20260914T220000Z
DTEND:20260914T220000Z
CATEGORIES:Ver- und Entsorgung
SUMMARY;CHARSET=UTF-8:Papiertonne
DESCRIPTION;CHARSET=UTF-8:
LOCATION;CHARSET=UTF-8:
UID:9de8daa2b1c6cc09b61090f127383aaa@74ecdbd7b8e5b2992eb859b7c843539f
END:VEVENT
END:VCALENDAR