BEGIN:VCALENDAR
VERSION:2.0
PRODID:< http://www.open2c.de/ >
METHOD:PUBLISH
X-PUBLISHED-TTL:PT12H
BEGIN:VEVENT
CREATED:20251110T085005Z
LAST-MODIFIED:20251110T085018Z
GEO:0.000000,0.000000
DTSTAMP:20260424T145532Z
DTSTART:20261012T220000Z
DTEND:20261012T220000Z
CATEGORIES:Ver- und Entsorgung
SUMMARY;CHARSET=UTF-8:Papiertonne
DESCRIPTION;CHARSET=UTF-8:
LOCATION;CHARSET=UTF-8:
UID:29c1336770cbf7a39d49b2ea1c0f3eb7@74ecdbd7b8e5b2992eb859b7c843539f
END:VEVENT
END:VCALENDAR