BEGIN:VCALENDAR
VERSION:2.0
PRODID:< http://www.open2c.de/ >
METHOD:PUBLISH
X-PUBLISHED-TTL:PT12H
BEGIN:VEVENT
CREATED:20251110T091629Z
LAST-MODIFIED:20251110T091643Z
GEO:0.000000,0.000000
DTSTAMP:20260424T110719Z
DTSTART:20260429T220000Z
DTEND:20260429T220000Z
CATEGORIES:Ver- und Entsorgung
SUMMARY;CHARSET=UTF-8:Restmülltonne
DESCRIPTION;CHARSET=UTF-8:
LOCATION;CHARSET=UTF-8:
UID:771c076a1537526c01a2cf3ab6b73fce@74ecdbd7b8e5b2992eb859b7c843539f
END:VEVENT
END:VCALENDAR