BEGIN:VCALENDAR
VERSION:2.0
PRODID:< http://www.open2c.de/ >
METHOD:PUBLISH
X-PUBLISHED-TTL:PT12H
BEGIN:VEVENT
CREATED:20251110T091651Z
LAST-MODIFIED:20251110T091707Z
GEO:0.000000,0.000000
DTSTAMP:20260424T125053Z
DTSTART:20260515T220000Z
DTEND:20260515T220000Z
CATEGORIES:Ver- und Entsorgung
SUMMARY;CHARSET=UTF-8:Restmülltonne
DESCRIPTION;CHARSET=UTF-8:
LOCATION;CHARSET=UTF-8:
UID:620688dd0b2822bf81bb287c274db6fd@74ecdbd7b8e5b2992eb859b7c843539f
END:VEVENT
END:VCALENDAR