BEGIN:VCALENDAR
VERSION:2.0
PRODID:< http://www.open2c.de/ >
METHOD:PUBLISH
X-PUBLISHED-TTL:PT12H
BEGIN:VEVENT
CREATED:20251110T092004Z
LAST-MODIFIED:20251110T092022Z
GEO:0.000000,0.000000
DTSTAMP:20260424T143821Z
DTSTART:20260723T220000Z
DTEND:20260723T220000Z
CATEGORIES:Ver- und Entsorgung
SUMMARY;CHARSET=UTF-8:Restmülltonne
DESCRIPTION;CHARSET=UTF-8:
LOCATION;CHARSET=UTF-8:
UID:5f8d50e9396727c28a11ce9b37025a0f@74ecdbd7b8e5b2992eb859b7c843539f
END:VEVENT
END:VCALENDAR