BEGIN:VCALENDAR
VERSION:2.0
PRODID:< http://www.open2c.de/ >
METHOD:PUBLISH
X-PUBLISHED-TTL:PT12H
BEGIN:VEVENT
CREATED:20251110T092353Z
LAST-MODIFIED:20251110T092413Z
GEO:0.000000,0.000000
DTSTAMP:20260424T144702Z
DTSTART:20261126T230000Z
DTEND:20261126T230000Z
CATEGORIES:Ver- und Entsorgung
SUMMARY;CHARSET=UTF-8:Restmülltonne
DESCRIPTION;CHARSET=UTF-8:
LOCATION;CHARSET=UTF-8:
UID:0678de3e5a4d728bece3f214971d2b28@74ecdbd7b8e5b2992eb859b7c843539f
END:VEVENT
END:VCALENDAR