BEGIN:VCALENDAR
VERSION:2.0
PRODID:< http://www.open2c.de/ >
METHOD:PUBLISH
X-PUBLISHED-TTL:PT12H
BEGIN:VEVENT
CREATED:20251110T092425Z
LAST-MODIFIED:20251110T092441Z
GEO:0.000000,0.000000
DTSTAMP:20260424T144819Z
DTSTART:20261210T230000Z
DTEND:20261210T230000Z
CATEGORIES:Ver- und Entsorgung
SUMMARY;CHARSET=UTF-8:Restmülltonne
DESCRIPTION;CHARSET=UTF-8:
LOCATION;CHARSET=UTF-8:
UID:3e482cf2fa8dcf69d52ef09065a092f4@74ecdbd7b8e5b2992eb859b7c843539f
END:VEVENT
END:VCALENDAR