BEGIN:VCALENDAR
VERSION:2.0
PRODID:< http://www.open2c.de/ >
METHOD:PUBLISH
X-PUBLISHED-TTL:PT12H
BEGIN:VEVENT
CREATED:20251110T092830Z
LAST-MODIFIED:20251110T092846Z
GEO:0.000000,0.000000
DTSTAMP:20260424T125053Z
DTSTART:20260518T220000Z
DTEND:20260518T220000Z
CATEGORIES:Ver- und Entsorgung
SUMMARY;CHARSET=UTF-8:Gelbe Tonne
DESCRIPTION;CHARSET=UTF-8:
LOCATION;CHARSET=UTF-8:
UID:ce70078d4729dc7b07e7c0a72163aea1@74ecdbd7b8e5b2992eb859b7c843539f
END:VEVENT
END:VCALENDAR