BEGIN:VCALENDAR
VERSION:2.0
PRODID:< http://www.open2c.de/ >
METHOD:PUBLISH
X-PUBLISHED-TTL:PT12H
BEGIN:VEVENT
CREATED:20251110T092852Z
LAST-MODIFIED:20251110T092912Z
GEO:0.000000,0.000000
DTSTAMP:20260424T122520Z
DTSTART:20260615T220000Z
DTEND:20260615T220000Z
CATEGORIES:Ver- und Entsorgung
SUMMARY;CHARSET=UTF-8:Gelbe Tonne
DESCRIPTION;CHARSET=UTF-8:
LOCATION;CHARSET=UTF-8:
UID:8a9c3e2bdd3e0fba088027c9c71ae0f1@74ecdbd7b8e5b2992eb859b7c843539f
END:VEVENT
END:VCALENDAR