BEGIN:VCALENDAR
VERSION:2.0
PRODID:< http://www.open2c.de/ >
METHOD:PUBLISH
X-PUBLISHED-TTL:PT12H
BEGIN:VEVENT
CREATED:20251110T093023Z
LAST-MODIFIED:20251110T093037Z
GEO:0.000000,0.000000
DTSTAMP:20260424T144008Z
DTSTART:20260907T220000Z
DTEND:20260907T220000Z
CATEGORIES:Ver- und Entsorgung
SUMMARY;CHARSET=UTF-8:Gelbe Tonne
DESCRIPTION;CHARSET=UTF-8:
LOCATION;CHARSET=UTF-8:
UID:8bb0599a1afd147a93abfbb53e6d64af@74ecdbd7b8e5b2992eb859b7c843539f
END:VEVENT
END:VCALENDAR