BEGIN:VCALENDAR
VERSION:2.0
PRODID:< http://www.open2c.de/ >
METHOD:PUBLISH
X-PUBLISHED-TTL:PT12H
BEGIN:VEVENT
CREATED:20251110T093103Z
LAST-MODIFIED:20251110T093133Z
GEO:0.000000,0.000000
DTSTAMP:20260424T145536Z
DTSTART:20261102T230000Z
DTEND:20261102T230000Z
CATEGORIES:Ver- und Entsorgung
SUMMARY;CHARSET=UTF-8:Gelbe Tonne
DESCRIPTION;CHARSET=UTF-8:
LOCATION;CHARSET=UTF-8:
UID:3f360fb92b0059cb45f48b0117a3d20f@74ecdbd7b8e5b2992eb859b7c843539f
END:VEVENT
END:VCALENDAR