BEGIN:VCALENDAR
VERSION:2.0
PRODID:< http://www.open2c.de/ >
METHOD:PUBLISH
X-PUBLISHED-TTL:PT12H
BEGIN:VEVENT
CREATED:20251110T093143Z
LAST-MODIFIED:20251110T093200Z
GEO:0.000000,0.000000
DTSTAMP:20260424T144631Z
DTSTART:20261130T230000Z
DTEND:20261130T230000Z
CATEGORIES:Ver- und Entsorgung
SUMMARY;CHARSET=UTF-8:Gelbe Tonne
DESCRIPTION;CHARSET=UTF-8:
LOCATION;CHARSET=UTF-8:
UID:55e0821adba348b325f8fb3292808951@74ecdbd7b8e5b2992eb859b7c843539f
END:VEVENT
END:VCALENDAR