BEGIN:VCALENDAR
VERSION:2.0
PRODID:< http://www.open2c.de/ >
METHOD:PUBLISH
X-PUBLISHED-TTL:PT12H
BEGIN:VEVENT
CREATED:20251110T093209Z
LAST-MODIFIED:20251110T093223Z
GEO:0.000000,0.000000
DTSTAMP:20260424T141756Z
DTSTART:20261228T230000Z
DTEND:20261228T230000Z
CATEGORIES:Ver- und Entsorgung
SUMMARY;CHARSET=UTF-8:Gelbe Tonne
DESCRIPTION;CHARSET=UTF-8:
LOCATION;CHARSET=UTF-8:
UID:50a4f7c953188db1857668271e4b037f@74ecdbd7b8e5b2992eb859b7c843539f
END:VEVENT
END:VCALENDAR