BEGIN:VCALENDAR
VERSION:2.0
PRODID:< http://www.open2c.de/ >
METHOD:PUBLISH
X-PUBLISHED-TTL:PT12H
BEGIN:VEVENT
CREATED:20251110T093458Z
LAST-MODIFIED:20251110T093550Z
GEO:0.000000,0.000000
DTSTAMP:20260424T143903Z
DTSTART:20260314T073000Z
DTEND:20260314T120000Z
CATEGORIES:Ver- und Entsorgung
SUMMARY;CHARSET=UTF-8:Papier- und Altkleidersammlung des SV Uffing
DESCRIPTION;CHARSET=UTF-8:Altpapier- und  Altkleidersammlung des SV Uffing\\, Abteilung Fußball im Ortsgebiet Uffing
  
 Kartons und Kleidung separat
LOCATION;CHARSET=UTF-8:
UID:547b48ac2c5469b6e41a854dba28e74b@74ecdbd7b8e5b2992eb859b7c843539f
END:VEVENT
END:VCALENDAR