BEGIN:VCALENDAR
VERSION:2.0
PRODID:< http://www.open2c.de/ >
METHOD:PUBLISH
X-PUBLISHED-TTL:PT12H
BEGIN:VEVENT
CREATED:20251110T093640Z
LAST-MODIFIED:20251110T093701Z
GEO:0.000000,0.000000
DTSTAMP:20260424T143842Z
DTSTART:20260912T063000Z
DTEND:20260912T110000Z
CATEGORIES:Ver- und Entsorgung
SUMMARY;CHARSET=UTF-8:Papier- und Altkleidersammlung des SV Uffing
DESCRIPTION;CHARSET=UTF-8:Altpapier- und  Altkleidersammlung des SV Uffing\\, Abteilung Fußball im Ortsgebiet Uffing
  
 Kartons und Kleidung separat
LOCATION;CHARSET=UTF-8:
UID:d999bcd3d06fb86fb33e97091722c833@74ecdbd7b8e5b2992eb859b7c843539f
END:VEVENT
END:VCALENDAR