BEGIN:VCALENDAR
VERSION:2.0
PRODID:< http://www.open2c.de/ >
METHOD:PUBLISH
X-PUBLISHED-TTL:PT12H
BEGIN:VEVENT
CREATED:20251110T094351Z
LAST-MODIFIED:20251110T094413Z
GEO:0.000000,0.000000
DTSTAMP:20260424T143822Z
DTSTART:20260731T220000Z
DTEND:20260731T220000Z
CATEGORIES:Ver- und Entsorgung
SUMMARY;CHARSET=UTF-8:Altpapiersammlung Schöffau
DESCRIPTION;CHARSET=UTF-8:Jeweils von 10.00 - 11.00 Uhr am Wertstoffhof/Feuerwehr.
LOCATION;CHARSET=UTF-8:
UID:a6bce140681c0dff2fab5222e40557d2@74ecdbd7b8e5b2992eb859b7c843539f
END:VEVENT
END:VCALENDAR